BEGIN:VCALENDAR
VERSION:2.0
PRODID:-//Innovative Technology Education Fund - ECPv6.15.12.2//NONSGML v1.0//EN
CALSCALE:GREGORIAN
METHOD:PUBLISH
X-WR-CALNAME:Innovative Technology Education Fund
X-ORIGINAL-URL:https://innovteched.com
X-WR-CALDESC:Events for Innovative Technology Education Fund
REFRESH-INTERVAL;VALUE=DURATION:PT1H
X-Robots-Tag:noindex
X-PUBLISHED-TTL:PT1H
BEGIN:VTIMEZONE
TZID:UTC
BEGIN:STANDARD
TZOFFSETFROM:+0000
TZOFFSETTO:+0000
TZNAME:UTC
DTSTART:20240101T000000
END:STANDARD
END:VTIMEZONE
BEGIN:VEVENT
DTSTART;TZID=UTC:20251209T173000
DTEND;TZID=UTC:20251209T183000
DTSTAMP:20260423T133441
CREATED:20240201T183813Z
LAST-MODIFIED:20250903T165844Z
UID:3458-1765301400-1765305000@innovteched.com
SUMMARY:Innovator Workshop Dec.9 ONLINE ONLY
DESCRIPTION:If you are thinking about writing an Innovator grant\, attend one of our coaching workshops. Request a Zoom link at itef@innovteched.com
URL:https://innovteched.com/event/innovator-workshop-dec-9-online-only/
LOCATION:Zoom
END:VEVENT
BEGIN:VEVENT
DTSTART;TZID=UTC:20260107T173000
DTEND;TZID=UTC:20260107T183000
DTSTAMP:20260423T133441
CREATED:20240201T183912Z
LAST-MODIFIED:20250903T165801Z
UID:3459-1767807000-1767810600@innovteched.com
SUMMARY:Innovator Workshop Jan.7 ONLINE ONLY
DESCRIPTION:If you are thinking about writing an Innovator grant\, attend one of our coaching workshops. Request a Zoom link at itef@innovteched.com
URL:https://innovteched.com/event/innovator-workshop-jan-7-online-only/
LOCATION:Zoom
END:VEVENT
END:VCALENDAR